BEGIN:VCALENDAR
VERSION:2.0
PRODID:-//wp-events-plugin.com//7.2.3.1//EN
TZID:Europe/Berlin
X-WR-TIMEZONE:Europe/Berlin
BEGIN:VEVENT
UID:1@greifbar.net
DTSTART;TZID=Europe/Berlin:20230124T193000
DTEND;TZID=Europe/Berlin:20230124T210000
DTSTAMP:20230124T132635Z
URL:https://www.greifbar.net/events/maennerabend/
SUMMARY:Männerabend
DESCRIPTION:Du hast Dienstagabend Zeit und kannst dir vorstellen\, dass so 
 ein regelmäßiger Männerabend bei GreifBar was für dich ist? Dann komm 
 doch am Di\, 24.1.\, um 19:30 Uhr in die GreifBar-Wohnung (rechter Teil). 
 Bei diesem ersten Treffen wollen wir uns einfach darüber austauschen\, wi
 e so ein Männerabend (oder auch andere Aktionen) aussehen müsste\, damit
  wir Lust darauf haben und es uns (und anderen) guttut.
CATEGORIES:synchronisierte Termine
LOCATION:GreifBar Wohnung\, Roald-Amundsen-Str. 15\, Greifswald\, Deutschla
 nd
X-APPLE-STRUCTURED-LOCATION;VALUE=URI;X-ADDRESS=Roald-Amundsen-Str. 15\, Gr
 eifswald\, Deutschland;X-APPLE-RADIUS=100;X-TITLE=GreifBar Wohnung:geo:0,0
END:VEVENT
BEGIN:VTIMEZONE
TZID:Europe/Berlin
X-LIC-LOCATION:Europe/Berlin
BEGIN:STANDARD
DTSTART:20221030T020000
TZOFFSETFROM:+0200
TZOFFSETTO:+0100
TZNAME:CET
END:STANDARD
END:VTIMEZONE
END:VCALENDAR